View In:
ArcGIS JavaScript
ArcGIS Online Map Viewer
ArcGIS Earth
Service Description: null
Name: egm08
Description: null
Single Fused Map Cache: false
Extent:
XMin: -180.02083333333334
YMin: -90.02083333333333
XMax: 179.97916666666666
YMax: 90.02083333333333
Spatial Reference: 4326
(4326)
LatestVCSWkid(0)
Initial Extent:
XMin: -180.02083333333334
YMin: -90.02083333333333
XMax: 179.97916666666666
YMax: 90.02083333333333
Spatial Reference: 4326
(4326)
LatestVCSWkid(0)
Full Extent:
XMin: -180.02083333333334
YMin: -90.02083333333333
XMax: 179.97916666666666
YMax: 90.02083333333333
Spatial Reference: 4326
(4326)
LatestVCSWkid(0)
Pixel Size X: 0.041666666666666664
Pixel Size Y: 0.041666666666666664
Band Count: 1
Pixel Type: F32
RasterFunction Infos: {"rasterFunctionInfos": [{
"name": "None",
"description": "",
"help": ""
}]}
Mensuration Capabilities:
Inspection Capabilities:
Has Histograms: false
Has Colormap: false
Has Multi Dimensions : false
Rendering Rule:
Min Scale: 0
Max Scale: 0
Copyright Text: null
Service Data Type: esriImageServiceDataTypeGeneric
Min Values: N/A
Max Values: N/A
Mean Values: N/A
Standard Deviation Values: N/A
Object ID Field:
Fields:
None
Default Mosaic Method: Center
Allowed Mosaic Methods:
SortField:
SortValue: null
Mosaic Operator: First
Default Compression Quality: 75
Default Resampling Method: Bilinear
Max Record Count: null
Max Image Height: 4321
Max Image Width: 8640
Max Download Image Count: null
Max Mosaic Image Count: null
Allow Raster Function: true
Allow Copy: false
Allow Analysis: true
Allow Compute TiePoints: false
Supports Statistics: false
Supports Advanced Queries: false
Use StandardizedQueries: true
Raster Type Infos:
Name: Raster Dataset
Description: Supports all ArcGIS Raster Datasets
Help:
Has Raster Attribute Table: false
Edit Fields Info: null
Ownership Based AccessControl For Rasters: null
Child Resources:
Info
Statistics
Key Properties
Legend
Raster Function Infos
Supported Operations:
Export Image
Query
Identify
Measure
Compute Histograms
Compute Statistics Histograms
Get Samples
Compute Class Statistics
Query GPS Info
Find Images
Image to Map
Map to Image
Measure from Image
Image to Map Multiray
Query Boundary
Compute Pixel Location
Compute Angles
Validate
Project