View In:
ArcGIS JavaScript
ArcGIS Online Map Viewer
ArcGIS Earth
ArcMap
View Footprint In:
ArcGIS Online Map Viewer
Service Description: null
Name: arcticdem_rel2210
Description: null
Single Fused Map Cache: false
Extent:
XMin: -4037564
YMin: -3447740
XMax: 3433540
YMax: 4154436
Spatial Reference: 3413
(3413)
Initial Extent:
XMin: -4037564
YMin: -3447740
XMax: 3433540
YMax: 4154436
Spatial Reference: 3413
(3413)
Full Extent:
XMin: -4037564
YMin: -3447740
XMax: 3433540
YMax: 4154436
Spatial Reference: 3413
(3413)
Pixel Size X: 2.0
Pixel Size Y: 2.0
Band Count: 1
Pixel Type: F32
RasterFunction Infos: {"rasterFunctionInfos": [
{
"name": "None",
"description": "Make a Raster or Raster Dataset into a Function Raster Dataset.",
"help": ""
},
{
"name": "Aspect Degrees",
"description": "This server-side function will apply an on-the-fly process to the input elevation data to generate an aspect layer.",
"help": ""
},
{
"name": "Aspect Map",
"description": "This server-side function will apply an on-the-fly process to the input elevation data to generate a color visualization of aspect. ",
"help": ""
},
{
"name": "Contour 25",
"description": "Provides 25m contours for the area of interest dynamically generated using the contour server-side function.",
"help": ""
},
{
"name": "Contour Smoothed 25",
"description": "Provides 25m smoothed contours for the area of interest dynamically generated using the contour server-side function.",
"help": ""
},
{
"name": "Height Orthometric",
"description": "This server side raster function converts the original WGS84 ellipsoidal heights to EGM08 orthometric heights",
"help": ""
},
{
"name": "Hillshade Elevation Tinted",
"description": "This server-side function will apply an on-the-fly process to the input elevation data to generate a tinted hillshade.",
"help": ""
},
{
"name": "Hillshade Gray",
"description": "Provides a hillshaded surface generated dynamically using the hillshade server-side function on the elevation layer with a solar azimuth of 315 degrees and solar altitude of 45 degrees",
"help": ""
},
{
"name": "Hillshade Multidirectional",
"description": "This server-side function will apply an on-the-fly process to the input elevation values to generate a multi-directional hillshade. This algorithm computes hillshade from six different directions, where each hillshade is multiplied by a weight and thereafter the sum of all is normalized to produce the final output.",
"help": ""
},
{
"name": "Slope Degrees",
"description": "This server-side function will apply an on-the-fly process to the input elevation data to generate a service returning slope (in degrees, from 0 to 90). ",
"help": ""
},
{
"name": "Slope Map",
"description": "This server-side function will apply an on-the-fly process to the input elevation data to generate a color visualization of slope, where flat surfaces are gray, shallow slopes are yellow, and steep slopes are red-brown.",
"help": ""
}
]}
Mensuration Capabilities: Basic
Has Histograms: false
Has Colormap: false
Has Multi Dimensions : false
Rendering Rule:
Min Scale: 0
Max Scale: 0
Copyright Text: null
Service Data Type: esriImageServiceDataTypeGeneric
Min Values: N/A
Max Values: N/A
Mean Values: N/A
Standard Deviation Values: N/A
Object ID Field: OBJECTID
Fields:
-
OBJECTID
(
type: esriFieldTypeOID, alias: OBJECTID
)
-
Shape
(
type: esriFieldTypeGeometry, alias: Shape
)
-
Name
(
type: esriFieldTypeString, alias: Name, length: 200
)
-
MinPS
(
type: esriFieldTypeDouble, alias: MinPS
)
-
MaxPS
(
type: esriFieldTypeDouble, alias: MaxPS
)
-
LowPS
(
type: esriFieldTypeDouble, alias: LowPS
)
-
HighPS
(
type: esriFieldTypeDouble, alias: HighPS
)
-
Category
(
type: esriFieldTypeInteger, alias: Category
, Coded Values:
[0: Unknown]
, [1: Primary]
, [2: Overview]
, ...6 more...
)
-
Tag
(
type: esriFieldTypeString, alias: Tag, length: 100
)
-
GroupName
(
type: esriFieldTypeString, alias: GroupName, length: 100
)
-
ProductName
(
type: esriFieldTypeString, alias: ProductName, length: 100
)
-
CenterX
(
type: esriFieldTypeDouble, alias: CenterX
)
-
CenterY
(
type: esriFieldTypeDouble, alias: CenterY
)
-
ZOrder
(
type: esriFieldTypeInteger, alias: ZOrder
)
-
gsd
(
type: esriFieldTypeDouble, alias: Ground Sample Distance
)
-
epsg
(
type: esriFieldTypeInteger, alias: EPSG Code
)
-
fileurl
(
type: esriFieldTypeString, alias: Download URL, length: 1024
)
-
s3url
(
type: esriFieldTypeString, alias: S3 STAC Item URL, length: 1024
)
-
catalogid1
(
type: esriFieldTypeString, alias: Catalog ID 1, length: 100
)
-
catalogid2
(
type: esriFieldTypeString, alias: Catalog ID 2, length: 100
)
-
acqdate1
(
type: esriFieldTypeDate, alias: Acquisition Date 1, length: 8
)
-
valid_area_matchtag_density
(
type: esriFieldTypeDouble, alias: Valid Area Matchtag Density
)
Default Mosaic Method: Northwest
Allowed Mosaic Methods: NorthWest,Center,LockRaster,ByAttribute,Nadir,Viewpoint,Seamline,None
SortField:
SortValue: null
Mosaic Operator: First
Default Compression Quality: 75
Default Resampling Method: Bilinear
Max Record Count: 1000
Max Image Height: 5000
Max Image Width: 5000
Max Download Image Count: 20
Max Mosaic Image Count: 20
Allow Raster Function: true
Allow Copy: true
Allow Analysis: true
Allow Compute TiePoints: false
Supports Statistics: true
Supports Advanced Queries: true
Use StandardizedQueries: true
Raster Type Infos:
Name: Raster Dataset
Description: Supports all ArcGIS Raster Datasets
Help:
Has Raster Attribute Table: false
Edit Fields Info: null
Ownership Based AccessControl For Rasters: null
Child Resources:
Info
Statistics
Key Properties
Legend
Raster Function Infos
Supported Operations:
Export Image
Query
Identify
Measure
Compute Histograms
Compute Statistics Histograms
Get Samples
Compute Class Statistics
Query Boundary
Compute Pixel Location
Validate
Project