{
 "currentVersion": 11.5,
 "serviceDescription": "null",
 "name": "arcticdem_dev",
 "description": "null",
 "extent": {
  "xmin": -4037564,
  "ymin": -3447740,
  "xmax": 3433540,
  "ymax": 4154436,
  "spatialReference": {
   "wkid": 3413,
   "latestWkid": 3413
  }
 },
 "initialExtent": {
  "xmin": -4037564,
  "ymin": -3447740,
  "xmax": 3433540,
  "ymax": 4154436,
  "spatialReference": {
   "wkid": 3413,
   "latestWkid": 3413
  }
 },
 "fullExtent": {
  "xmin": -4037564,
  "ymin": -3447740,
  "xmax": 3433540,
  "ymax": 4154436,
  "spatialReference": {
   "wkid": 3413,
   "latestWkid": 3413
  }
 },
 "sortableFields": "",
 "bandCount": 1,
 "pixelType": "F32",
 "minValues": [
  -155.0690460205078
 ],
 "maxValues": [
  6178.5634765625
 ],
 "meanValues": [
  406.5919835414069
 ],
 "stdvValues": [
  618.8348373591955
 ],
 "serviceProperties": "NorthWest<\/MosaicMethod>First<\/MosaicOperator>true<\/SortAscending><\/LockImageID>Name<\/TileOrderField>0<\/TileOrderBase>600.000000<\/AvgImageSpacingX>300.000000<\/AvgImageSpacingY>0.0<\/ViewPointX>0.0<\/ViewPointY>0.0<\/ViewPointDefShiftX>0.0<\/ViewPointDefShiftY>None<\/CompressionMethod>75<\/CompressionQuality>0.010000<\/CompressionTolerance>Bilinear<\/SamplingMethod><\/ImageServiceProperties><\/ImageServer>",
 "allowedFields": "Name,MinPS,MaxPS,LowPS,HighPS,Tag,GroupName,ProductName,CenterX,CenterY,ZOrder,Shape_Length,Shape_Area,Dataset_ID,dem_id,catalogid1,catalogid2,acqdate1,gsd,epsg,valid_area_matchtag_density,fileurl,s3url",
 "hasMultidimensions": false,
 "pixelSizeX": 2,
 "pixelSizeY": 2,
 "meanPixelSize": 2,
 "datasetFormat": "AMD",
 "uncompressedSize": 56796647522304,
 "blockWidth": 2048,
 "blockHeight": 256,
 "compressionType": "None",
 "bandNames": [
  "Band_1"
 ],
 "allowCopy": true,
 "allowAnalysis": true,
 "itemAccess": false,
 "inspectionCapabilities": "",
 "minPixelSize": 0,
 "maxPixelSize": 0,
 "copyrightText": "null",
 "serviceDataType": "esriImageServiceDataTypeGeneric",
 "serviceSourceType": "esriImageServiceSourceTypeMosaicDataset",
 "objectIdField": "OBJECTID",
 "fields": [
  {
   "name": "OBJECTID",
   "type": "esriFieldTypeOID",
   "alias": "OBJECTID",
   "domain": null
  },
  {
   "name": "Shape",
   "type": "esriFieldTypeGeometry",
   "alias": "Shape",
   "domain": null
  },
  {
   "name": "Name",
   "type": "esriFieldTypeString",
   "alias": "Name",
   "domain": null,
   "length": 200
  },
  {
   "name": "MinPS",
   "type": "esriFieldTypeDouble",
   "alias": "MinPS",
   "domain": null
  },
  {
   "name": "MaxPS",
   "type": "esriFieldTypeDouble",
   "alias": "MaxPS",
   "domain": null
  },
  {
   "name": "LowPS",
   "type": "esriFieldTypeDouble",
   "alias": "LowPS",
   "domain": null
  },
  {
   "name": "HighPS",
   "type": "esriFieldTypeDouble",
   "alias": "HighPS",
   "domain": null
  },
  {
   "name": "Category",
   "type": "esriFieldTypeInteger",
   "alias": "Category",
   "domain": {
    "type": "codedValue",
    "name": "MosaicCatalogItemCategoryDomain",
    "description": "Catalog item categories.",
    "codedValues": [
     {
      "name": "Unknown",
      "code": 0
     },
     {
      "name": "Primary",
      "code": 1
     },
     {
      "name": "Overview",
      "code": 2
     },
     {
      "name": "Unprocessed Overview",
      "code": 3
     },
     {
      "name": "Partial Overview",
      "code": 4
     },
     {
      "name": "Inactive",
      "code": 5
     },
     {
      "name": "Uploaded",
      "code": 253
     },
     {
      "name": "Incomplete",
      "code": 254
     },
     {
      "name": "Custom",
      "code": 255
     }
    ],
    "mergePolicy": "esriMPTDefaultValue",
    "splitPolicy": "esriSPTDefaultValue"
   }
  },
  {
   "name": "Tag",
   "type": "esriFieldTypeString",
   "alias": "Tag",
   "domain": null,
   "length": 100
  },
  {
   "name": "GroupName",
   "type": "esriFieldTypeString",
   "alias": "GroupName",
   "domain": null,
   "length": 100
  },
  {
   "name": "ProductName",
   "type": "esriFieldTypeString",
   "alias": "ProductName",
   "domain": null,
   "length": 100
  },
  {
   "name": "CenterX",
   "type": "esriFieldTypeDouble",
   "alias": "CenterX",
   "domain": null
  },
  {
   "name": "CenterY",
   "type": "esriFieldTypeDouble",
   "alias": "CenterY",
   "domain": null
  },
  {
   "name": "ZOrder",
   "type": "esriFieldTypeInteger",
   "alias": "ZOrder",
   "domain": null
  },
  {
   "name": "Dataset_ID",
   "type": "esriFieldTypeString",
   "alias": "Dataset_ID",
   "domain": null,
   "length": 50
  },
  {
   "name": "dem_id",
   "type": "esriFieldTypeString",
   "alias": "dem_id",
   "domain": null,
   "length": 254
  },
  {
   "name": "catalogid1",
   "type": "esriFieldTypeString",
   "alias": "catalogid1",
   "domain": null,
   "length": 32
  },
  {
   "name": "catalogid2",
   "type": "esriFieldTypeString",
   "alias": "catalogid2",
   "domain": null,
   "length": 32
  },
  {
   "name": "acqdate1",
   "type": "esriFieldTypeDate",
   "alias": "acqdate1",
   "domain": null,
   "length": 8
  },
  {
   "name": "gsd",
   "type": "esriFieldTypeDouble",
   "alias": "gsd",
   "domain": null
  },
  {
   "name": "epsg",
   "type": "esriFieldTypeInteger",
   "alias": "epsg",
   "domain": null
  },
  {
   "name": "valid_area_matchtag_density",
   "type": "esriFieldTypeDouble",
   "alias": "valid_area_matchtag_density",
   "domain": null
  },
  {
   "name": "fileurl",
   "type": "esriFieldTypeString",
   "alias": "fileurl",
   "domain": null,
   "length": 254
  },
  {
   "name": "s3url",
   "type": "esriFieldTypeString",
   "alias": "s3url",
   "domain": null,
   "length": 255
  },
  {
   "name": "Shape_Length",
   "type": "esriFieldTypeDouble",
   "alias": "Shape_Length",
   "domain": null
  },
  {
   "name": "Shape_Area",
   "type": "esriFieldTypeDouble",
   "alias": "Shape_Area",
   "domain": null
  }
 ],
 "capabilities": "Image,Metadata,Catalog,Mensuration",
 "defaultMosaicMethod": "Northwest",
 "allowedMosaicMethods": "NorthWest,Center,LockRaster,ByAttribute,Nadir,Viewpoint,Seamline,None",
 "sortField": "",
 "sortValue": null,
 "sortAscending": true,
 "mosaicOperator": "First",
 "maxDownloadSizeLimit": 2048,
 "defaultCompressionQuality": 75,
 "defaultResamplingMethod": "Bilinear",
 "maxImageHeight": 4100,
 "maxImageWidth": 15000,
 "maxRecordCount": 1000,
 "maxDownloadImageCount": 20,
 "maxMosaicImageCount": 20,
 "allowRasterFunction": true,
 "rasterFunctionInfos": [
  {
   "name": "None",
   "description": "Make a Raster or Raster Dataset into a Function Raster Dataset.",
   "help": ""
  },
  {
   "name": "Aspect Degrees",
   "description": "This server-side function will apply an on-the-fly process to the input elevation data to generate an aspect layer.",
   "help": ""
  },
  {
   "name": "Aspect Map",
   "description": "This server-side function will apply an on-the-fly process to the input elevation data to generate a color visualization of aspect. ",
   "help": ""
  },
  {
   "name": "Contour 25",
   "description": "Provides 25m contours for the area of interest dynamically generated using the contour server-side function.",
   "help": ""
  },
  {
   "name": "Contour Smoothed 25",
   "description": "Provides 25m smoothed contours for the area of interest dynamically generated using the contour server-side function.",
   "help": ""
  },
  {
   "name": "Height Ellipsoidal",
   "description": "This represents the original WGS84 ellipsoidal heights",
   "help": ""
  },
  {
   "name": "Height Orthometric",
   "description": "This server side raster function converts the original WGS84 ellipsoidal heights to EGM08 orthometric\n heights\n ",
   "help": ""
  },
  {
   "name": "Hillshade Elevation Tinted",
   "description": "This server-side function will apply an on-the-fly process to the input elevation data to generate a tinted hillshade.",
   "help": ""
  },
  {
   "name": "Hillshade Gray",
   "description": "Provides a hillshaded surface generated dynamically using the hillshade server-side function on the elevation layer with a solar azimuth of 315 degrees and solar altitude of 45 degrees. Z-factor defaults to 4, but can be specified via the the REST API.",
   "help": ""
  },
  {
   "name": "Hillshade Multidirectional",
   "description": "This server-side function will apply an on-the-fly process to the input elevation values to generate a multi-directional hillshade. This algorithm computes hillshade from six different directions, where each hillshade is multiplied by a weight and thereafter the sum of all is normalized to produce the final output.",
   "help": ""
  },
  {
   "name": "Slope Degrees",
   "description": "This server-side function will apply an on-the-fly process to the input elevation data to generate a service returning slope (in degrees, from 0 to 90). ",
   "help": ""
  },
  {
   "name": "Slope Map",
   "description": "This server-side function will apply an on-the-fly process to the input elevation data to generate a color visualization of slope, where flat surfaces are gray, shallow slopes are yellow, and steep slopes are red-brown.",
   "help": ""
  }
 ],
 "rasterTypeInfos": [
  {
   "name": "Raster Dataset",
   "description": "Supports all ArcGIS Raster Datasets",
   "help": ""
  }
 ],
 "mensurationCapabilities": "Basic",
 "hasHistograms": true,
 "hasColormap": false,
 "hasRasterAttributeTable": false,
 "minScale": 0,
 "maxScale": 0,
 "exportTilesAllowed": false,
 "supportsStatistics": true,
 "supportsAdvancedQueries": true,
 "editFieldsInfo": null,
 "ownershipBasedAccessControlForRasters": null,
 "allowComputeTiePoints": false,
 "useStandardizedQueries": true,
 "advancedQueryCapabilities": {
  "useStandardizedQueries": true,
  "supportsStatistics": true,
  "supportsOrderBy": true,
  "supportsDistinct": true,
  "supportsPagination": true
 },
 "spatialReference": {
  "wkid": 3413,
  "latestWkid": 3413
 }
}
